BEGIN:VCALENDAR
VERSION:2.0
PRODID:-//wp-events-plugin.com//7.2.3.1//EN
TZID:Europe/Warsaw
X-WR-TIMEZONE:Europe/Warsaw
BEGIN:VEVENT
UID:57@dzielnica12.krakow.pl
DTSTART;TZID=Europe/Warsaw:20250203T150000
DTEND;TZID=Europe/Warsaw:20250203T160000
DTSTAMP:20250131T080208Z
URL:https://dzielnica12.krakow.pl/wydarzenia/dyzur-czlonka-zarzadu-agata-g
 wiazda-2025-02-03/
SUMMARY:Dyżur Członka Zarządu Agaty Gwiazdy
DESCRIPTION:
CATEGORIES:Dyżury
LOCATION:Miejsce Aktywności Mieszkańców\, osiedle Na Kozłówce 25\, Kra
 ków \, 30-664\, Poland
X-APPLE-STRUCTURED-LOCATION;VALUE=URI;X-ADDRESS=osiedle Na Kozłówce 25\, 
 Kraków \, 30-664\, Poland;X-APPLE-RADIUS=100;X-TITLE=Miejsce Aktywności 
 Mieszkańców:geo:0,0
END:VEVENT
BEGIN:VTIMEZONE
TZID:Europe/Warsaw
X-LIC-LOCATION:Europe/Warsaw
BEGIN:STANDARD
DTSTART:20241027T020000
TZOFFSETFROM:+0200
TZOFFSETTO:+0100
TZNAME:CET
END:STANDARD
END:VTIMEZONE
END:VCALENDAR