BEGIN:VCALENDAR
VERSION:2.0
PRODID:-//wp-events-plugin.com//7.2.3.1//EN
TZID:Europe/Warsaw
X-WR-TIMEZONE:Europe/Warsaw
BEGIN:VEVENT
UID:94@dzielnica12.krakow.pl
DTSTART;TZID=Europe/Warsaw:20250508T180000
DTEND;TZID=Europe/Warsaw:20250508T180000
DTSTAMP:20250505T083853Z
URL:https://dzielnica12.krakow.pl/wydarzenia/komisja-ds-aktywizacji-mieszk
 ancow/
SUMMARY:Komisja ds. Aktywizacji Mieszkańców
DESCRIPTION:
CATEGORIES:Posiedzenia Komisji
LOCATION:Siedziba Rady Dzielnicy\, Kurczaba 3\, Kraków \, Poland
X-APPLE-STRUCTURED-LOCATION;VALUE=URI;X-ADDRESS=Kurczaba 3\, Kraków \, Pol
 and;X-APPLE-RADIUS=100;X-TITLE=Siedziba Rady Dzielnicy:geo:0,0
END:VEVENT
BEGIN:VTIMEZONE
TZID:Europe/Warsaw
X-LIC-LOCATION:Europe/Warsaw
BEGIN:DAYLIGHT
DTSTART:20250330T030000
TZOFFSETFROM:+0100
TZOFFSETTO:+0200
TZNAME:CEST
END:DAYLIGHT
END:VTIMEZONE
END:VCALENDAR