BEGIN:VCALENDAR
VERSION:2.0
PRODID:-//wp-events-plugin.com//7.2.3.1//EN
TZID:Europe/Warsaw
X-WR-TIMEZONE:Europe/Warsaw
BEGIN:VEVENT
UID:7@dzielnica12.krakow.pl
DTSTART;TZID=Europe/Warsaw:20250203T170000
DTEND;TZID=Europe/Warsaw:20250203T170000
DTSTAMP:20250131T074641Z
URL:https://dzielnica12.krakow.pl/wydarzenia/komisja-informacji-i-komunika
 cji-z-mieszkancami/
SUMMARY:Komisja Informacji i Komunikacji z Mieszkańcami
DESCRIPTION:
CATEGORIES:Posiedzenia Komisji
LOCATION:Biuro Rady i Zarządu Dzielnicy XII\, ul. Kurczaba 3\, Kraków\, 3
 0-868\, Poland
X-APPLE-STRUCTURED-LOCATION;VALUE=URI;X-ADDRESS=ul. Kurczaba 3\, Kraków\, 
 30-868\, Poland;X-APPLE-RADIUS=100;X-TITLE=Biuro Rady i Zarządu Dzielnicy
  XII:geo:0,0
END:VEVENT
BEGIN:VTIMEZONE
TZID:Europe/Warsaw
X-LIC-LOCATION:Europe/Warsaw
BEGIN:STANDARD
DTSTART:20241027T020000
TZOFFSETFROM:+0200
TZOFFSETTO:+0100
TZNAME:CET
END:STANDARD
END:VTIMEZONE
END:VCALENDAR