BEGIN:VCALENDAR
VERSION:2.0
PRODID:-//wp-events-plugin.com//7.2.3.1//EN
TZID:Europe/Warsaw
X-WR-TIMEZONE:Europe/Warsaw
BEGIN:VEVENT
UID:2@dzielnica12.krakow.pl
DTSTART;TZID=Europe/Warsaw;VALUE=DATE:20241219
DTEND;TZID=Europe/Warsaw;VALUE=DATE:20241220
DTSTAMP:20241219T141706Z
URL:https://dzielnica12.krakow.pl/wydarzenia/wydarzenie-z-harmonogramu/
SUMMARY:Wydarzenie z harmonogramu
DESCRIPTION:Testowe wydarzenie z harmonogramu.
CATEGORIES:Dyżury
END:VEVENT
BEGIN:VTIMEZONE
TZID:Europe/Warsaw
X-LIC-LOCATION:Europe/Warsaw
BEGIN:STANDARD
DTSTART:20241027T020000
TZOFFSETFROM:+0200
TZOFFSETTO:+0100
TZNAME:CET
END:STANDARD
END:VTIMEZONE
END:VCALENDAR